BEGIN:VCALENDAR
VERSION:2.0
X-WR-CALNAME: Upcoming shows
PRODID:GIGPRESS 2.0 WORDPRESS PLUGIN
CALSCALE:GREGORIAN
X-WR-TIMEZONE:Etc/GMT
METHOD:PUBLISH
BEGIN:VTIMEZONE
TZID:GMT
BEGIN:STANDARD
DTSTART:20071028T010000
TZOFFSETTO:+0000
TZOFFSETFROM:+0000
END:STANDARD
END:VTIMEZONE
BEGIN:VEVENT
SUMMARY:Hillsong Gospel at Calvary Baptist Church
DESCRIPTION:Price: Free will offering. All Ages
LOCATION:Calvary Baptist Church\, 1021 south 12th Street\, Marshalltown\, US
UID:20260503T100000Z-95-eric@ericbrake.ws
URL:https://www.hgministry.us/concerts/
DTSTART;VALUE=DATE-TIME;TZID=GMT:20260503T100000Z
DTEND;VALUE=DATE-TIME;TZID=GMT:20260503T100000Z
DTSTAMP:20260423T015714Z
END:VEVENT
BEGIN:VEVENT
SUMMARY:Hillsong Gospel at Centralia first baptist church
DESCRIPTION:Price: Free will offering. Notes: Joy service with senior adults All Ages
LOCATION:Centralia first baptist church\, 101 South Collier Street\, Centralia\, US
UID:20260522T120000Z-93-eric@ericbrake.ws
URL:https://www.hgministry.us/concerts/
DTSTART;VALUE=DATE-TIME;TZID=GMT:20260522T120000Z
DTEND;VALUE=DATE-TIME;TZID=GMT:20260522T120000Z
DTSTAMP:20260423T015714Z
END:VEVENT
BEGIN:VEVENT
SUMMARY:Hillsong Gospel at KNOX COUNTY FAIR
DESCRIPTION:Price: Free will offering. All Ages
LOCATION:KNOX COUNTY FAIR\, HIGHWAY 8\, KNOXVILLE\, US
UID:20260711T150000Z-96-eric@ericbrake.ws
URL:https://www.hgministry.us/concerts/
DTSTART;VALUE=DATE-TIME;TZID=GMT:20260711T150000Z
DTEND;VALUE=DATE-TIME;TZID=GMT:20260711T150000Z
DTSTAMP:20260423T015714Z
END:VEVENT
BEGIN:VEVENT
SUMMARY:Hillsong Gospel at The Gathering Place
DESCRIPTION:All Ages
LOCATION:The Gathering Place\, 102 SOUTH WEST KENT ST.\, Greenfield\, US
UID:20260731T110000Z-98-eric@ericbrake.ws
URL:https://www.hgministry.us/concerts/
DTSTART;VALUE=DATE-TIME;TZID=GMT:20260731T110000Z
DTEND;VALUE=DATE-TIME;TZID=GMT:20260731T110000Z
DTSTAMP:20260423T015714Z
END:VEVENT
BEGIN:VEVENT
SUMMARY:Hillsong Gospel at The Gathering Place
DESCRIPTION:Price: Free will offering. All Ages
LOCATION:The Gathering Place\, 102 SOUTH WEST KENT ST.\, Greenfield\, US
UID:20260731T110000Z-97-eric@ericbrake.ws
URL:https://www.hgministry.us/concerts/
DTSTART;VALUE=DATE-TIME;TZID=GMT:20260731T110000Z
DTEND;VALUE=DATE-TIME;TZID=GMT:20260801T110000Z
DTSTAMP:20260423T015714Z
END:VEVENT
BEGIN:VEVENT
SUMMARY:Hillsong Gospel at The Gathering Place
DESCRIPTION:Tour: Greenfield west central Iowa gospel sing. Price: Free will offering. Notes: Concert featuring Hillsong Gospel ministry only) All Ages
LOCATION:The Gathering Place\, 102 SOUTH WEST KENT ST.\, Greenfield\, US
UID:20260802T183000Z-99-eric@ericbrake.ws
URL:https://www.hgministry.us/concerts/
DTSTART;VALUE=DATE-TIME;TZID=GMT:20260802T183000Z
DTEND;VALUE=DATE-TIME;TZID=GMT:20260802T183000Z
DTSTAMP:20260423T015714Z
END:VEVENT
BEGIN:VEVENT
SUMMARY:Hillsong Gospel at HEART OF MISSOURI GOSPEL SING
DESCRIPTION:Price: Love offering. All Ages
LOCATION:HEART OF MISSOURI GOSPEL SING\, HWY Z\, FULTON\, US
UID:20260808T120000Z-100-eric@ericbrake.ws
URL:https://www.hgministry.us/concerts/
DTSTART;VALUE=DATE-TIME;TZID=GMT:20260808T120000Z
DTEND;VALUE=DATE-TIME;TZID=GMT:20260808T120000Z
DTSTAMP:20260423T015714Z
END:VEVENT
BEGIN:VEVENT
SUMMARY:Hillsong Gospel at WINDMILL RIDGE CAMPGROUND
DESCRIPTION:Tour: Kalona gospel sing. Price: Love offering. All Ages
LOCATION:WINDMILL RIDGE CAMPGROUND\, 2110 140 th\, Kalona\, US
UID:20260828T130000Z-101-eric@ericbrake.ws
URL:https://www.hgministry.us/concerts/
DTSTART;VALUE=DATE-TIME;TZID=GMT:20260828T130000Z
DTEND;VALUE=DATE-TIME;TZID=GMT:20260829T130000Z
DTSTAMP:20260423T015714Z
END:VEVENT
BEGIN:VEVENT
SUMMARY:Hillsong Gospel at Midwest Southern Gospel Association
DESCRIPTION:Tour: MSGA Des Moines. Price: Love offering. Notes: Msga in Des Moines All Ages
LOCATION:Midwest Southern Gospel Association\, Airport Holiday Inn\, Des Moines\, US
UID:20261009T114500Z-102-eric@ericbrake.ws
URL:https://www.hgministry.us/concerts/
DTSTART;VALUE=DATE-TIME;TZID=GMT:20261009T114500Z
DTEND;VALUE=DATE-TIME;TZID=GMT:20261010T114500Z
DTSTAMP:20260423T015714Z
END:VEVENT
BEGIN:VEVENT
SUMMARY:Hillsong Gospel at BAR NONE COWBOY CHURCH
DESCRIPTION:Price: Free will offering. All Ages
LOCATION:BAR NONE COWBOY CHURCH\, 1690 WEST 19th STREET S\, NEWTON\, US
UID:20270114T180000Z-103-eric@ericbrake.ws
URL:https://www.hgministry.us/concerts/
DTSTART;VALUE=DATE-TIME;TZID=GMT:20270114T180000Z
DTEND;VALUE=DATE-TIME;TZID=GMT:20270114T180000Z
DTSTAMP:20260423T015714Z
END:VEVENT
END:VCALENDAR